BEGIN:VCALENDAR
VERSION:2.0
PRODID:-//SJW - ECPv5.0.2.1//NONSGML v1.0//EN
CALSCALE:GREGORIAN
METHOD:PUBLISH
X-WR-CALNAME:SJW
X-ORIGINAL-URL:https://www.shulinthewood.com
X-WR-CALDESC:Events for SJW
BEGIN:VTIMEZONE
TZID:Europe/London
BEGIN:DAYLIGHT
TZOFFSETFROM:+0000
TZOFFSETTO:+0100
TZNAME:BST
DTSTART:20260329T010000
END:DAYLIGHT
BEGIN:STANDARD
TZOFFSETFROM:+0100
TZOFFSETTO:+0000
TZNAME:GMT
DTSTART:20261025T010000
END:STANDARD
END:VTIMEZONE
BEGIN:VEVENT
DTSTART;TZID=Europe/London:20260602T123000
DTEND;TZID=Europe/London:20260602T143000
DTSTAMP:20260423T155447
CREATED:20260413T095947Z
LAST-MODIFIED:20260413T095947Z
UID:20941-1780403400-1780410600@www.shulinthewood.com
SUMMARY:Gillian Burr Communal Lunch - 12.30pm
DESCRIPTION:\n\n\n\n\n\n\n\n\n\n\n\n\n\n\n\n
URL:https://www.shulinthewood.com/event/gillian-burr-communal-lunch-12-30pm-6/
CATEGORIES:Community,Events
END:VEVENT
END:VCALENDAR